BEGIN:VCALENDAR
VERSION:2.0
PRODID:-//Studio 51 - ECPv6.15.20//NONSGML v1.0//EN
CALSCALE:GREGORIAN
METHOD:PUBLISH
X-WR-CALNAME:Studio 51
X-ORIGINAL-URL:https://studio51.dance
X-WR-CALDESC:Events for Studio 51
REFRESH-INTERVAL;VALUE=DURATION:PT1H
X-Robots-Tag:noindex
X-PUBLISHED-TTL:PT1H
BEGIN:VTIMEZONE
TZID:UTC
BEGIN:STANDARD
TZOFFSETFROM:+0000
TZOFFSETTO:+0000
TZNAME:UTC
DTSTART:20230101T000000
END:STANDARD
END:VTIMEZONE
BEGIN:VEVENT
DTSTART;TZID=UTC:20241202T130000
DTEND;TZID=UTC:20241206T220000
DTSTAMP:20260421T231435
CREATED:20240902T210008Z
LAST-MODIFIED:20240902T210008Z
UID:1721-1733144400-1733522400@studio51.dance
SUMMARY:Visitors Week
DESCRIPTION:
URL:https://studio51.dance/event/visitors-week-2/
LOCATION:Studio 51\, 51 S 7th ST\, Zanesville\, OH\, 43701\, United States
CATEGORIES:Visitor
ORGANIZER;CN="Studio 51 Dance School":MAILTO:info@studio51.dance
END:VEVENT
BEGIN:VEVENT
DTSTART;TZID=UTC:20241204T080000
DTEND;TZID=UTC:20241204T170000
DTSTAMP:20260421T231435
CREATED:20240902T210159Z
LAST-MODIFIED:20240902T210159Z
UID:1723-1733299200-1733331600@studio51.dance
SUMMARY:Christmas Parade
DESCRIPTION:
URL:https://studio51.dance/event/christmas-parade/
LOCATION:Downtown Zanesville\, Zanesville\, OH\, 43701\, United States
CATEGORIES:Parade
END:VEVENT
BEGIN:VEVENT
DTSTART;TZID=UTC:20241206T080000
DTEND;TZID=UTC:20241206T170000
DTSTAMP:20260421T231435
CREATED:20240902T210335Z
LAST-MODIFIED:20240902T210335Z
UID:1725-1733472000-1733504400@studio51.dance
SUMMARY:First Friday Open House and Performance
DESCRIPTION:
URL:https://studio51.dance/event/first-friday-open-house-and-performance/
LOCATION:Studio 51\, 51 S 7th ST\, Zanesville\, OH\, 43701\, United States
CATEGORIES:Performance
ORGANIZER;CN="Studio 51 Dance School":MAILTO:info@studio51.dance
END:VEVENT
BEGIN:VEVENT
DTSTART;TZID=UTC:20241207T130000
DTEND;TZID=UTC:20241207T220000
DTSTAMP:20260421T231435
CREATED:20240902T210642Z
LAST-MODIFIED:20240902T210642Z
UID:1727-1733576400-1733608800@studio51.dance
SUMMARY:Holiday Show
DESCRIPTION:
URL:https://studio51.dance/event/holiday-show/
LOCATION:Colony Square Mall\, 3575 Maple Ave\, Zanesville\, OH\, 43701\, United States
CATEGORIES:Performance
ORGANIZER;CN="Studio 51 Dance School":MAILTO:info@studio51.dance
END:VEVENT
BEGIN:VEVENT
DTSTART;TZID=UTC:20241220T080000
DTEND;TZID=UTC:20250105T170000
DTSTAMP:20260421T231435
CREATED:20240902T210756Z
LAST-MODIFIED:20240902T210756Z
UID:1730-1734681600-1736096400@studio51.dance
SUMMARY:Christmas Break
DESCRIPTION:
URL:https://studio51.dance/event/christmas-break/
LOCATION:Studio 51\, 51 S 7th ST\, Zanesville\, OH\, 43701\, United States
CATEGORIES:Break
ORGANIZER;CN="Studio 51 Dance School":MAILTO:info@studio51.dance
END:VEVENT
END:VCALENDAR